BEGIN:VCALENDAR
VERSION:2.0
PRODID:icalendar-ruby
CALSCALE:GREGORIAN
METHOD:PUBLISH
BEGIN:VEVENT
DTSTAMP:20260424T193506Z
UID:906-4088651@st-dunstans.ca
DTSTART:20260524T170000Z
DTEND:20260524T180000Z
CLASS:PUBLIC
CREATED:20260421T130746
DESCRIPTION:Reverend Clarence Li is presiding and Reverend April Stanley is
  preaching.\nTo stream the Sunday service click here\nthe PASSCODE is 123.
  \nMeeting ID: 849 3747 0476
LAST-MODIFIED:20260421T130746
LOCATION:St. Dunstan's Parish\, Aldergrove/Langley
SUMMARY:Day of Pentecost
URL;VALUE=URI:https://www.st-dunstans.ca/events/day-of-pentecost--906/2026-
 05-24
ATTACH;FILENAME=Pentecost.jfif;FMTTYPE=image/jpeg:https://dq5pwpg1q8ru0.clo
 udfront.net/2026/04/21/20/07/46/3b0cb29b-662f-45d5-bb47-658ed79a861c/Pente
 cost.jfif
END:VEVENT
END:VCALENDAR
