BEGIN:VCALENDAR
VERSION:2.0
PRODID:icalendar-ruby
CALSCALE:GREGORIAN
METHOD:PUBLISH
BEGIN:VEVENT
DTSTAMP:20260424T175622Z
UID:903-4088648@st-dunstans.ca
DTSTART:20260503T170000Z
DTEND:20260503T180000Z
CLASS:PUBLIC
CREATED:20260421T130105
DESCRIPTION:Reverend Paul Guiton is presiding and Reverend Clarence Li is p
 reaching.\nTo stream the Sunday service click here\nthe PASSCODE is 123. 
 \nMeeting ID: 849 3747 0476
LAST-MODIFIED:20260421T130105
LOCATION:St. Dunstan's Parish\, Aldergrove/Langley
SUMMARY:Fifth Sunday after Easter
URL;VALUE=URI:https://www.st-dunstans.ca/events/fifth-sunday-after-easter/2
 026-05-03
ATTACH;FILENAME=Alleluiah.png;FMTTYPE=image/png:https://dq5pwpg1q8ru0.cloud
 front.net/2026/04/21/20/01/05/5ea1a4dc-63ba-4d07-8a37-4e5cec4f4220/Allelui
 ah.png
END:VEVENT
END:VCALENDAR
