BEGIN:VCALENDAR
VERSION:2.0
PRODID:icalendar-ruby
CALSCALE:GREGORIAN
METHOD:PUBLISH
BEGIN:VEVENT
DTSTAMP:20260422T110352Z
UID:902-4088647@st-dunstans.ca
DTSTART:20260426T170000Z
DTEND:20260426T180000Z
CLASS:PUBLIC
CREATED:20260421T125213
DESCRIPTION:Reverend Clarence Li is presiding and preaching.\nTo stream the
  Sunday service click here\nthe PASSCODE is 123. \nMeeting ID: 849 3747 0
 476
LAST-MODIFIED:20260421T125213
LOCATION:St. Dunstan's Parish\, Aldergrove/Langley
SUMMARY:Fourth Sunday after Easter
URL;VALUE=URI:https://www.st-dunstans.ca/events/fourth-sunday-after-easter/
 2026-04-26
ATTACH;FILENAME=Alleluiah.png;FMTTYPE=image/png:https://dq5pwpg1q8ru0.cloud
 front.net/2026/04/21/19/52/13/0aff0c59-a18c-40af-b2d8-65b5b5bf883a/Allelui
 ah.png
ATTACH;FILENAME=Fourth Sunday of Easter Readings.pdf;FMTTYPE=application/pd
 f:https://dq5pwpg1q8ru0.cloudfront.net/2026/04/21/19/52/13/a1e2ca46-d511-4
 588-ac6f-c36bf7074b6b/Fourth%20Sunday%20of%20Easter%20Readings.pdf
END:VEVENT
END:VCALENDAR
