BEGIN:VCALENDAR
VERSION:2.0
PRODID:icalendar-ruby
CALSCALE:GREGORIAN
METHOD:PUBLISH
BEGIN:VEVENT
DTSTAMP:20260424T205655Z
UID:908-4126007@st-dunstans.ca
DTSTART:20260530T013000Z
DTEND:20260530T040000Z
CLASS:PUBLIC
CREATED:20260424T102029
DESCRIPTION:Sing Without Ceasing is a Diocesan Choir Festival taking place
  at Christ Church Cathedral on May 29\, 2026\, as part of the Mission Conf
 erence Weekend.\nThe evening will bring together singers from across the D
 iocese to form a Diocesan Mass Choir\, alongside congregational singing\, 
 readings and other elements of worship. The festival is being offered in c
 ollaboration with Neil Cockbourn\, Director of Music at Christ Church Cath
 edral and will include a guest address from Bishop Michael Curry. 
LAST-MODIFIED:20260424T102029
LOCATION:Christ Church Cathedral and Synod Office
SUMMARY:Mission Conference
URL;VALUE=URI:https://www.st-dunstans.ca/events/mission-conference/2026-05-
 29
ATTACH;FILENAME=Sing-Without-Ceasing---2026_Poster_proof-4.jpg;FMTTYPE=imag
 e/jpeg:https://dq5pwpg1q8ru0.cloudfront.net/2026/04/24/17/20/29/d5f5a5f8-b
 d65-474d-bbed-7fc97f10cbfc/Sing-Without-Ceasing---2026_Poster_proof-4.jpg
END:VEVENT
END:VCALENDAR
