BEGIN:VCALENDAR
VERSION:2.0
PRODID:icalendar-ruby
CALSCALE:GREGORIAN
METHOD:PUBLISH
BEGIN:VEVENT
DTSTAMP:20260424T193247Z
UID:905-4088650@st-dunstans.ca
DTSTART:20260517T170000Z
DTEND:20260517T180000Z
CLASS:PUBLIC
CREATED:20260421T130456
DESCRIPTION:Reverend April Stanley is presiding and Reverend Clarence Li is
  preaching.\nTo stream the Sunday service click here\nthe PASSCODE is 123.
  \nMeeting ID: 849 3747 0476
LAST-MODIFIED:20260421T130456
LOCATION:St. Dunstan's Parish\, Aldergrove/Langley
SUMMARY:Seventh Sunday after Easter
URL;VALUE=URI:https://www.st-dunstans.ca/events/seventh-sunday-after-easter
 /2026-05-17
ATTACH;FILENAME=Alleluiah.png;FMTTYPE=image/png:https://dq5pwpg1q8ru0.cloud
 front.net/2026/04/21/20/04/55/11f7747c-8054-43e3-9a54-2393e9f337a8/Allelui
 ah.png
END:VEVENT
END:VCALENDAR
