BEGIN:VCALENDAR
VERSION:2.0
PRODID:icalendar-ruby
CALSCALE:GREGORIAN
METHOD:PUBLISH
BEGIN:VEVENT
DTSTAMP:20260424T175436Z
UID:904-4088649@st-dunstans.ca
DTSTART:20260510T170000Z
DTEND:20260510T180000Z
CLASS:PUBLIC
CREATED:20260421T130250
DESCRIPTION:Reverend Clarence Li is presiding and Reverend Paul Guiton is p
 reaching.\nTo stream the Sunday service click here\nthe PASSCODE is 123. 
 \nMeeting ID: 849 3747 0476
LAST-MODIFIED:20260421T130250
LOCATION:St. Dunstan's Parish\, Aldergrove/Langley
SUMMARY:Sixth Sunday after Easter
URL;VALUE=URI:https://www.st-dunstans.ca/events/sixth-sunday-after-easter/2
 026-05-10
ATTACH;FILENAME=Alleluiah.png;FMTTYPE=image/png:https://dq5pwpg1q8ru0.cloud
 front.net/2026/04/21/20/02/49/eb6ca632-bd7a-40da-ae58-8b435f8d9410/Allelui
 ah.png
END:VEVENT
END:VCALENDAR
