BEGIN:VCALENDAR
VERSION:2.0
PRODID:icalendar-ruby
CALSCALE:GREGORIAN
METHOD:PUBLISH
BEGIN:VEVENT
DTSTAMP:20260424T193333Z
UID:907-4088653@st-dunstans.ca
DTSTART:20260531T170000Z
DTEND:20260531T180000Z
CLASS:PUBLIC
CREATED:20260421T131056
DESCRIPTION:Reverend Clarence Li is presiding and Reverend Jeanne Forte is 
 preaching.\nTo stream the Sunday service click here\nthe PASSCODE is 123.
  \nMeeting ID: 849 3747 0476
LAST-MODIFIED:20260421T131056
LOCATION:St. Dunstan's Parish\, Aldergrove/Langley
SUMMARY:Trinity Sunday
URL;VALUE=URI:https://www.st-dunstans.ca/events/trinity-sunday--907/2026-05
 -31
ATTACH;FILENAME=Trinity-Sunday.png;FMTTYPE=image/png:https://dq5pwpg1q8ru0.
 cloudfront.net/2026/04/21/20/09/33/87a55d2c-fede-4380-b86c-5c04482e07ff/Tr
 inity-Sunday.png
END:VEVENT
END:VCALENDAR
